BEGIN:VCALENDAR
VERSION:2.0
PRODID:-//eventon.com NONSGML v1.0//EN
CALSCALE:GREGORIAN
METHOD:PUBLISH
BEGIN:VEVENT
UID:69eafc88aac93
DTSTAMP:20260424T051552Z
DTSTART:20270214
DTEND:20270215
LOCATION:
SUMMARY:Happy Valentines Day
DESCRIPTION:\nhttps://remlingerfarms.com/events/happy-valentines-day/
URL:https://remlingerfarms.com/events/happy-valentines-day/
END:VEVENT
END:VCALENDAR