BEGIN:VCALENDAR
VERSION:2.0
PRODID:-//eventon.com NONSGML v1.0//EN
CALSCALE:GREGORIAN
METHOD:PUBLISH
BEGIN:VEVENT
UID:69e72d1ee253b
DTSTAMP:20260421T075406Z
DTSTART:20260424T190000Z
DTEND:20260425T030000Z
LOCATION:Remlinger Farms 32610 N.E. 32nd St.
SUMMARY:Railway Café
DESCRIPTION:Remlinger Farms Railway Café is open today from 12 to 8\,  alo
 ng with our Market\,  Brewery &amp; Arcade.\nhttps://remlingerfarms.com/eve
 nts/railway-cafe-5/
URL:https://remlingerfarms.com/events/railway-cafe-5/
END:VEVENT
END:VCALENDAR