BEGIN:VCALENDAR
VERSION:2.0
PRODID:-//eventon.com NONSGML v1.0//EN
CALSCALE:GREGORIAN
METHOD:PUBLISH
BEGIN:VEVENT
UID:69e9756d1e4fd
DTSTAMP:20260423T012709Z
DTSTART:20260731T190000Z
DTEND:20260801T030000Z
LOCATION:Remlinger Farms 32610 N.E. 32nd St.
SUMMARY:Remlinger Arcade
DESCRIPTION:Remlinger Farms Arcade &#8211; open today from 12:00 to 8:00\, 
  along with our Market\,  Brewery &amp; Café.\nhttps://remlingerfarms.com/
 events/remlinger-arcade-5/var/ri-28.l-L1
URL:https://remlingerfarms.com/events/remlinger-arcade-5/var/ri-28.l-L1
END:VEVENT
END:VCALENDAR