BEGIN:VCALENDAR
VERSION:2.0
PRODID:-//eventon.com NONSGML v1.0//EN
CALSCALE:GREGORIAN
METHOD:PUBLISH
BEGIN:VEVENT
UID:69e8a03c434ac
DTSTAMP:20260422T101732Z
DTSTART:20260516T190000Z
DTEND:20260517T030000Z
LOCATION:Remlinger Farms 32610 N.E. 32nd St.
SUMMARY:Remlinger Arcade
DESCRIPTION:Remlinger Farms Arcade &#8211; open today from 12:00 to 8:00\, 
  along with our Market\,  Brewery &amp; Café.\nhttps://remlingerfarms.com/
 events/remlinger-arcade-5/var/ri-7.l-L1
URL:https://remlingerfarms.com/events/remlinger-arcade-5/var/ri-7.l-L1
END:VEVENT
END:VCALENDAR