BEGIN:VCALENDAR
VERSION:2.0
PRODID:-//eventon.com NONSGML v1.0//EN
CALSCALE:GREGORIAN
METHOD:PUBLISH
BEGIN:VEVENT
UID:69e6c6481effb
DTSTAMP:20260421T003520Z
DTSTART:20260426T190000Z
DTEND:20260427T020000Z
LOCATION:Remlinger Farms 32610 N.E. 32nd St.
SUMMARY:Farm Market
DESCRIPTION:Remlinger Farms Market &#8211; open from 12:00 to 7:00 today.\n
 https://remlingerfarms.com/events/farm-market-6/
URL:https://remlingerfarms.com/events/farm-market-6/
END:VEVENT
END:VCALENDAR